BEGIN:VCALENDAR
VERSION:2.0
PRODID:-//Hornell Public Library - ECPv6.15.20//NONSGML v1.0//EN
CALSCALE:GREGORIAN
METHOD:PUBLISH
X-ORIGINAL-URL:https://hornellpubliclibrary.org
X-WR-CALDESC:Events for Hornell Public Library
REFRESH-INTERVAL;VALUE=DURATION:PT1H
X-Robots-Tag:noindex
X-PUBLISHED-TTL:PT1H
BEGIN:VTIMEZONE
TZID:America/New_York
BEGIN:DAYLIGHT
TZOFFSETFROM:-0500
TZOFFSETTO:-0400
TZNAME:EDT
DTSTART:20250309T070000
END:DAYLIGHT
BEGIN:STANDARD
TZOFFSETFROM:-0400
TZOFFSETTO:-0500
TZNAME:EST
DTSTART:20251102T060000
END:STANDARD
BEGIN:DAYLIGHT
TZOFFSETFROM:-0500
TZOFFSETTO:-0400
TZNAME:EDT
DTSTART:20260308T070000
END:DAYLIGHT
BEGIN:STANDARD
TZOFFSETFROM:-0400
TZOFFSETTO:-0500
TZNAME:EST
DTSTART:20261101T060000
END:STANDARD
BEGIN:DAYLIGHT
TZOFFSETFROM:-0500
TZOFFSETTO:-0400
TZNAME:EDT
DTSTART:20270314T070000
END:DAYLIGHT
BEGIN:STANDARD
TZOFFSETFROM:-0400
TZOFFSETTO:-0500
TZNAME:EST
DTSTART:20271107T060000
END:STANDARD
END:VTIMEZONE
BEGIN:VEVENT
DTSTART;TZID=America/New_York:20260528T180000
DTEND;TZID=America/New_York:20260528T210000
DTSTAMP:20260424T144610
CREATED:20260422T170915Z
LAST-MODIFIED:20260422T170943Z
UID:6177-1779991200-1780002000@hornellpubliclibrary.org
SUMMARY:Chess Club
DESCRIPTION:6-7 pm Chess Lessons \n7-9 pm Open Chess
URL:https://hornellpubliclibrary.org/event/chess-club-13/
LOCATION:Hornell Public Library\, 64 Genesee St\, Hornell\, NY\, 14843\, United States
CATEGORIES:General Programs
END:VEVENT
BEGIN:VEVENT
DTSTART;TZID=America/New_York:20260530T103000
DTEND;TZID=America/New_York:20260530T130000
DTSTAMP:20260424T144610
CREATED:20260422T165458Z
LAST-MODIFIED:20260422T165525Z
UID:6167-1780137000-1780146000@hornellpubliclibrary.org
SUMMARY:Board Game Club
DESCRIPTION:
URL:https://hornellpubliclibrary.org/event/board-game-club-10/
LOCATION:Hornell Public Library\, 64 Genesee St\, Hornell\, NY\, 14843\, United States
CATEGORIES:General Programs
END:VEVENT
END:VCALENDAR