BEGIN:VCALENDAR
VERSION:2.0
PRODID:-//Hornell Public Library - ECPv6.15.20//NONSGML v1.0//EN
CALSCALE:GREGORIAN
METHOD:PUBLISH
X-WR-CALNAME:Hornell Public Library
X-ORIGINAL-URL:https://hornellpubliclibrary.org
X-WR-CALDESC:Events for Hornell Public Library
REFRESH-INTERVAL;VALUE=DURATION:PT1H
X-Robots-Tag:noindex
X-PUBLISHED-TTL:PT1H
BEGIN:VTIMEZONE
TZID:America/New_York
BEGIN:DAYLIGHT
TZOFFSETFROM:-0500
TZOFFSETTO:-0400
TZNAME:EDT
DTSTART:20250309T070000
END:DAYLIGHT
BEGIN:STANDARD
TZOFFSETFROM:-0400
TZOFFSETTO:-0500
TZNAME:EST
DTSTART:20251102T060000
END:STANDARD
BEGIN:DAYLIGHT
TZOFFSETFROM:-0500
TZOFFSETTO:-0400
TZNAME:EDT
DTSTART:20260308T070000
END:DAYLIGHT
BEGIN:STANDARD
TZOFFSETFROM:-0400
TZOFFSETTO:-0500
TZNAME:EST
DTSTART:20261101T060000
END:STANDARD
BEGIN:DAYLIGHT
TZOFFSETFROM:-0500
TZOFFSETTO:-0400
TZNAME:EDT
DTSTART:20270314T070000
END:DAYLIGHT
BEGIN:STANDARD
TZOFFSETFROM:-0400
TZOFFSETTO:-0500
TZNAME:EST
DTSTART:20271107T060000
END:STANDARD
END:VTIMEZONE
BEGIN:VEVENT
DTSTART;TZID=America/New_York:20260210T180000
DTEND;TZID=America/New_York:20260210T190000
DTSTAMP:20260421T072612
CREATED:20260122T191025Z
LAST-MODIFIED:20260122T191055Z
UID:5911-1770746400-1770750000@hornellpubliclibrary.org
SUMMARY:Book Club
DESCRIPTION:
URL:https://hornellpubliclibrary.org/event/book-club-3/
LOCATION:Hornell Public Library\, 64 Genesee St\, Hornell\, NY\, 14843\, United States
CATEGORIES:Adult Programs,General Programs
END:VEVENT
BEGIN:VEVENT
DTSTART;TZID=America/New_York:20260210T090000
DTEND;TZID=America/New_York:20260210T110000
DTSTAMP:20260421T072612
CREATED:20260122T191127Z
LAST-MODIFIED:20260122T191157Z
UID:5913-1770714000-1770721200@hornellpubliclibrary.org
SUMMARY:Smartphone Basics
DESCRIPTION:
URL:https://hornellpubliclibrary.org/event/smartphone-basics/
LOCATION:Hornell Public Library\, 64 Genesee St\, Hornell\, NY\, 14843\, United States
CATEGORIES:Adult Programs,General Programs
END:VEVENT
BEGIN:VEVENT
DTSTART;TZID=America/New_York:20260209T170000
DTEND;TZID=America/New_York:20260209T190000
DTSTAMP:20260421T072612
CREATED:20260122T182210Z
LAST-MODIFIED:20260122T182246Z
UID:5869-1770656400-1770663600@hornellpubliclibrary.org
SUMMARY:Crochet for Beginners with Sherry Pelkey
DESCRIPTION:
URL:https://hornellpubliclibrary.org/event/crochet-for-beginners-with-sherry-pelkey-7/
LOCATION:Hornell Public Library\, 64 Genesee St\, Hornell\, NY\, 14843\, United States
CATEGORIES:Adult Programs,Children's Programs,General Programs,Young Adult Programs
END:VEVENT
BEGIN:VEVENT
DTSTART;VALUE=DATE:20260209
DTEND;VALUE=DATE:20260221
DTSTAMP:20260421T072612
CREATED:20260122T192739Z
LAST-MODIFIED:20260122T193024Z
UID:5935-1770595200-1771631999@hornellpubliclibrary.org
SUMMARY:Book Drive- During Open Hours
DESCRIPTION:
URL:https://hornellpubliclibrary.org/event/book-drive/
LOCATION:Hornell Public Library\, 64 Genesee St\, Hornell\, NY\, 14843\, United States
CATEGORIES:General Programs
END:VEVENT
BEGIN:VEVENT
DTSTART;TZID=America/New_York:20260207T103000
DTEND;TZID=America/New_York:20260207T133000
DTSTAMP:20260421T072612
CREATED:20260122T190618Z
LAST-MODIFIED:20260122T190651Z
UID:5903-1770460200-1770471000@hornellpubliclibrary.org
SUMMARY:Board Game Club
DESCRIPTION:
URL:https://hornellpubliclibrary.org/event/board-game-club/
LOCATION:Hornell Public Library\, 64 Genesee St\, Hornell\, NY\, 14843\, United States
CATEGORIES:Adult Programs,General Programs,Young Adult Programs
END:VEVENT
BEGIN:VEVENT
DTSTART;TZID=America/New_York:20260205T180000
DTEND;TZID=America/New_York:20260205T210000
DTSTAMP:20260421T072612
CREATED:20260122T190135Z
LAST-MODIFIED:20260122T190211Z
UID:5896-1770314400-1770325200@hornellpubliclibrary.org
SUMMARY:Chess Club: 6-7pm Lessons\, 7-9pm Open Chess
DESCRIPTION:
URL:https://hornellpubliclibrary.org/event/chess-club-6-7pm-lessons-7-9pm-open-chess/
LOCATION:Hornell Public Library\, 64 Genesee St\, Hornell\, NY\, 14843\, United States
CATEGORIES:Adult Programs,Children's Programs,General Programs,Young Adult Programs
END:VEVENT
BEGIN:VEVENT
DTSTART;TZID=America/New_York:20260203T160000
DTEND;TZID=America/New_York:20260203T170000
DTSTAMP:20260421T072612
CREATED:20260122T182403Z
LAST-MODIFIED:20260122T182433Z
UID:5872-1770134400-1770138000@hornellpubliclibrary.org
SUMMARY:Circus Club
DESCRIPTION:
URL:https://hornellpubliclibrary.org/event/circus-club/
LOCATION:Hornell Public Library\, 64 Genesee St\, Hornell\, NY\, 14843\, United States
CATEGORIES:Children's Programs,General Programs
END:VEVENT
BEGIN:VEVENT
DTSTART;TZID=America/New_York:20260202T170000
DTEND;TZID=America/New_York:20260202T190000
DTSTAMP:20260421T072612
CREATED:20260122T182125Z
LAST-MODIFIED:20260122T182201Z
UID:5868-1770051600-1770058800@hornellpubliclibrary.org
SUMMARY:Crochet for Beginners with Sherry Pelkey
DESCRIPTION:
URL:https://hornellpubliclibrary.org/event/crochet-for-beginners-with-sherry-pelkey-6/
LOCATION:Hornell Public Library\, 64 Genesee St\, Hornell\, NY\, 14843\, United States
CATEGORIES:Adult Programs,Children's Programs,General Programs,Young Adult Programs
END:VEVENT
BEGIN:VEVENT
DTSTART;TZID=America/New_York:20260127T110000
DTEND;TZID=America/New_York:20260127T130000
DTSTAMP:20260421T072612
CREATED:20251217T214047Z
LAST-MODIFIED:20251217T214453Z
UID:5840-1769511600-1769518800@hornellpubliclibrary.org
SUMMARY:Homebound Book Delivery
DESCRIPTION:
URL:https://hornellpubliclibrary.org/event/homebound-book-delivery/
LOCATION:NY
CATEGORIES:Adult Programs,General Programs
END:VEVENT
BEGIN:VEVENT
DTSTART;TZID=America/New_York:20260126T170000
DTEND;TZID=America/New_York:20260126T190000
DTSTAMP:20260421T072612
CREATED:20251217T213759Z
LAST-MODIFIED:20251217T213832Z
UID:5834-1769446800-1769454000@hornellpubliclibrary.org
SUMMARY:Crochet for Beginners with Sherry Pelkey
DESCRIPTION:
URL:https://hornellpubliclibrary.org/event/crochet-for-beginners-with-sherry-pelkey-12/
LOCATION:Hornell Public Library\, 64 Genesee St\, Hornell\, NY\, 14843\, United States
CATEGORIES:Adult Programs,Children's Programs,General Programs,Young Adult Programs
END:VEVENT
BEGIN:VEVENT
DTSTART;TZID=America/New_York:20260124T103000
DTEND;TZID=America/New_York:20260124T113000
DTSTAMP:20260421T072612
CREATED:20251217T205530Z
LAST-MODIFIED:20251217T205559Z
UID:5797-1769250600-1769254200@hornellpubliclibrary.org
SUMMARY:Board Game Club
DESCRIPTION:
URL:https://hornellpubliclibrary.org/event/board-game-club-11/
LOCATION:Hornell Public Library\, 64 Genesee St\, Hornell\, NY\, 14843\, United States
CATEGORIES:Adult Programs,General Programs,Young Adult Programs
END:VEVENT
END:VCALENDAR