BEGIN:VCALENDAR
VERSION:2.0
PRODID:-//Hornell Public Library - ECPv6.15.20//NONSGML v1.0//EN
CALSCALE:GREGORIAN
METHOD:PUBLISH
X-WR-CALNAME:Hornell Public Library
X-ORIGINAL-URL:https://hornellpubliclibrary.org
X-WR-CALDESC:Events for Hornell Public Library
REFRESH-INTERVAL;VALUE=DURATION:PT1H
X-Robots-Tag:noindex
X-PUBLISHED-TTL:PT1H
BEGIN:VTIMEZONE
TZID:America/New_York
BEGIN:DAYLIGHT
TZOFFSETFROM:-0500
TZOFFSETTO:-0400
TZNAME:EDT
DTSTART:20250309T070000
END:DAYLIGHT
BEGIN:STANDARD
TZOFFSETFROM:-0400
TZOFFSETTO:-0500
TZNAME:EST
DTSTART:20251102T060000
END:STANDARD
BEGIN:DAYLIGHT
TZOFFSETFROM:-0500
TZOFFSETTO:-0400
TZNAME:EDT
DTSTART:20260308T070000
END:DAYLIGHT
BEGIN:STANDARD
TZOFFSETFROM:-0400
TZOFFSETTO:-0500
TZNAME:EST
DTSTART:20261101T060000
END:STANDARD
BEGIN:DAYLIGHT
TZOFFSETFROM:-0500
TZOFFSETTO:-0400
TZNAME:EDT
DTSTART:20270314T070000
END:DAYLIGHT
BEGIN:STANDARD
TZOFFSETFROM:-0400
TZOFFSETTO:-0500
TZNAME:EST
DTSTART:20271107T060000
END:STANDARD
END:VTIMEZONE
BEGIN:VEVENT
DTSTART;TZID=America/New_York:20260223T170000
DTEND;TZID=America/New_York:20260223T190000
DTSTAMP:20260421T072242
CREATED:20260122T182306Z
LAST-MODIFIED:20260122T182343Z
UID:5870-1771866000-1771873200@hornellpubliclibrary.org
SUMMARY:Crochet for Beginners with Sherry Pelkey
DESCRIPTION:
URL:https://hornellpubliclibrary.org/event/crochet-for-beginners-with-sherry-pelkey-8/
LOCATION:Hornell Public Library\, 64 Genesee St\, Hornell\, NY\, 14843\, United States
CATEGORIES:Adult Programs,Children's Programs,General Programs,Young Adult Programs
END:VEVENT
BEGIN:VEVENT
DTSTART;TZID=America/New_York:20260221T103000
DTEND;TZID=America/New_York:20260221T133000
DTSTAMP:20260421T072242
CREATED:20260122T190822Z
LAST-MODIFIED:20260122T190855Z
UID:5907-1771669800-1771680600@hornellpubliclibrary.org
SUMMARY:Board Game Club
DESCRIPTION:
URL:https://hornellpubliclibrary.org/event/board-game-club-3/
LOCATION:Hornell Public Library\, 64 Genesee St\, Hornell\, NY\, 14843\, United States
CATEGORIES:Adult Programs,General Programs,Young Adult Programs
END:VEVENT
BEGIN:VEVENT
DTSTART;TZID=America/New_York:20260219T180000
DTEND;TZID=America/New_York:20260219T210000
DTSTAMP:20260421T072242
CREATED:20260122T190314Z
LAST-MODIFIED:20260122T190350Z
UID:5898-1771524000-1771534800@hornellpubliclibrary.org
SUMMARY:Chess Club: 6-7pm Lessons\, 7-9pm Open Chess
DESCRIPTION:
URL:https://hornellpubliclibrary.org/event/chess-club-6-7pm-lessons-7-9pm-open-chess-3/
LOCATION:Hornell Public Library\, 64 Genesee St\, Hornell\, NY\, 14843\, United States
CATEGORIES:Adult Programs,Children's Programs,General Programs,Young Adult Programs
END:VEVENT
BEGIN:VEVENT
DTSTART;TZID=America/New_York:20260214T103000
DTEND;TZID=America/New_York:20260214T133000
DTSTAMP:20260421T072242
CREATED:20260122T190653Z
LAST-MODIFIED:20260122T190726Z
UID:5905-1771065000-1771075800@hornellpubliclibrary.org
SUMMARY:Board Game Club
DESCRIPTION:
URL:https://hornellpubliclibrary.org/event/board-game-club-2/
LOCATION:Hornell Public Library\, 64 Genesee St\, Hornell\, NY\, 14843\, United States
CATEGORIES:Adult Programs,General Programs,Young Adult Programs
END:VEVENT
BEGIN:VEVENT
DTSTART;TZID=America/New_York:20260214T100000
DTEND;TZID=America/New_York:20260214T130000
DTSTAMP:20260421T072242
CREATED:20260122T192406Z
LAST-MODIFIED:20260122T192445Z
UID:5928-1771063200-1771074000@hornellpubliclibrary.org
SUMMARY:Writers Group
DESCRIPTION:
URL:https://hornellpubliclibrary.org/event/writers-group-2/
LOCATION:Hornell Public Library\, 64 Genesee St\, Hornell\, NY\, 14843\, United States
CATEGORIES:Adult Programs,Children's Programs,General Programs,Young Adult Programs
END:VEVENT
BEGIN:VEVENT
DTSTART;TZID=America/New_York:20260213T090000
DTEND;TZID=America/New_York:20260213T110000
DTSTAMP:20260421T072242
CREATED:20260122T191524Z
LAST-MODIFIED:20260122T191554Z
UID:5918-1770973200-1770980400@hornellpubliclibrary.org
SUMMARY:Email 101
DESCRIPTION:
URL:https://hornellpubliclibrary.org/event/email-101/
LOCATION:Hornell Public Library\, 64 Genesee St\, Hornell\, NY\, 14843\, United States
CATEGORIES:Adult Programs,General Programs
END:VEVENT
BEGIN:VEVENT
DTSTART;TZID=America/New_York:20260212T180000
DTEND;TZID=America/New_York:20260212T210000
DTSTAMP:20260421T072242
CREATED:20260122T190215Z
LAST-MODIFIED:20260122T190251Z
UID:5897-1770919200-1770930000@hornellpubliclibrary.org
SUMMARY:Chess Club: 6-7pm Lessons\, 7-9pm Open Chess
DESCRIPTION:
URL:https://hornellpubliclibrary.org/event/chess-club-6-7pm-lessons-7-9pm-open-chess-2/
LOCATION:Hornell Public Library\, 64 Genesee St\, Hornell\, NY\, 14843\, United States
CATEGORIES:Adult Programs,Children's Programs,General Programs,Young Adult Programs
END:VEVENT
BEGIN:VEVENT
DTSTART;TZID=America/New_York:20260212T180000
DTEND;TZID=America/New_York:20260212T190000
DTSTAMP:20260421T072242
CREATED:20260122T192209Z
LAST-MODIFIED:20260122T192239Z
UID:5925-1770919200-1770922800@hornellpubliclibrary.org
SUMMARY:Local Author Visit with Fred Voss
DESCRIPTION:
URL:https://hornellpubliclibrary.org/event/local-author-visit-with-fred-voss/
LOCATION:Hornell Public Library\, 64 Genesee St\, Hornell\, NY\, 14843\, United States
CATEGORIES:Adult Programs,General Programs
END:VEVENT
BEGIN:VEVENT
DTSTART;TZID=America/New_York:20260212T090000
DTEND;TZID=America/New_York:20260212T110000
DTSTAMP:20260421T072242
CREATED:20260122T191440Z
LAST-MODIFIED:20260122T191510Z
UID:5919-1770886800-1770894000@hornellpubliclibrary.org
SUMMARY:Staying Safe Online
DESCRIPTION:
URL:https://hornellpubliclibrary.org/event/staying-safe-online/
LOCATION:Hornell Public Library\, 64 Genesee St\, Hornell\, NY\, 14843\, United States
CATEGORIES:Adult Programs,General Programs
END:VEVENT
BEGIN:VEVENT
DTSTART;TZID=America/New_York:20260211T173000
DTEND;TZID=America/New_York:20260211T210000
DTSTAMP:20260421T072242
CREATED:20260122T191932Z
LAST-MODIFIED:20260122T192002Z
UID:5922-1770831000-1770843600@hornellpubliclibrary.org
SUMMARY:Dungeons and Dragons One-Shot
DESCRIPTION:
URL:https://hornellpubliclibrary.org/event/dungeons-and-dragons-one-shot/
LOCATION:Hornell Public Library\, 64 Genesee St\, Hornell\, NY\, 14843\, United States
CATEGORIES:Adult Programs,General Programs
END:VEVENT
BEGIN:VEVENT
DTSTART;TZID=America/New_York:20260211T090000
DTEND;TZID=America/New_York:20260211T110000
DTSTAMP:20260421T072242
CREATED:20260122T191216Z
LAST-MODIFIED:20260122T191246Z
UID:5915-1770800400-1770807600@hornellpubliclibrary.org
SUMMARY:Web Basics
DESCRIPTION:
URL:https://hornellpubliclibrary.org/event/web-basics/
LOCATION:Hornell Public Library\, 64 Genesee St\, Hornell\, NY\, 14843\, United States
CATEGORIES:Adult Programs,General Programs
END:VEVENT
BEGIN:VEVENT
DTSTART;TZID=America/New_York:20260210T180000
DTEND;TZID=America/New_York:20260210T190000
DTSTAMP:20260421T072242
CREATED:20260122T191025Z
LAST-MODIFIED:20260122T191055Z
UID:5911-1770746400-1770750000@hornellpubliclibrary.org
SUMMARY:Book Club
DESCRIPTION:
URL:https://hornellpubliclibrary.org/event/book-club-3/
LOCATION:Hornell Public Library\, 64 Genesee St\, Hornell\, NY\, 14843\, United States
CATEGORIES:Adult Programs,General Programs
END:VEVENT
BEGIN:VEVENT
DTSTART;TZID=America/New_York:20260210T090000
DTEND;TZID=America/New_York:20260210T110000
DTSTAMP:20260421T072242
CREATED:20260122T191127Z
LAST-MODIFIED:20260122T191157Z
UID:5913-1770714000-1770721200@hornellpubliclibrary.org
SUMMARY:Smartphone Basics
DESCRIPTION:
URL:https://hornellpubliclibrary.org/event/smartphone-basics/
LOCATION:Hornell Public Library\, 64 Genesee St\, Hornell\, NY\, 14843\, United States
CATEGORIES:Adult Programs,General Programs
END:VEVENT
BEGIN:VEVENT
DTSTART;TZID=America/New_York:20260209T170000
DTEND;TZID=America/New_York:20260209T190000
DTSTAMP:20260421T072242
CREATED:20260122T182210Z
LAST-MODIFIED:20260122T182246Z
UID:5869-1770656400-1770663600@hornellpubliclibrary.org
SUMMARY:Crochet for Beginners with Sherry Pelkey
DESCRIPTION:
URL:https://hornellpubliclibrary.org/event/crochet-for-beginners-with-sherry-pelkey-7/
LOCATION:Hornell Public Library\, 64 Genesee St\, Hornell\, NY\, 14843\, United States
CATEGORIES:Adult Programs,Children's Programs,General Programs,Young Adult Programs
END:VEVENT
BEGIN:VEVENT
DTSTART;TZID=America/New_York:20260207T103000
DTEND;TZID=America/New_York:20260207T133000
DTSTAMP:20260421T072242
CREATED:20260122T190618Z
LAST-MODIFIED:20260122T190651Z
UID:5903-1770460200-1770471000@hornellpubliclibrary.org
SUMMARY:Board Game Club
DESCRIPTION:
URL:https://hornellpubliclibrary.org/event/board-game-club/
LOCATION:Hornell Public Library\, 64 Genesee St\, Hornell\, NY\, 14843\, United States
CATEGORIES:Adult Programs,General Programs,Young Adult Programs
END:VEVENT
BEGIN:VEVENT
DTSTART;TZID=America/New_York:20260205T180000
DTEND;TZID=America/New_York:20260205T210000
DTSTAMP:20260421T072242
CREATED:20260122T190135Z
LAST-MODIFIED:20260122T190211Z
UID:5896-1770314400-1770325200@hornellpubliclibrary.org
SUMMARY:Chess Club: 6-7pm Lessons\, 7-9pm Open Chess
DESCRIPTION:
URL:https://hornellpubliclibrary.org/event/chess-club-6-7pm-lessons-7-9pm-open-chess/
LOCATION:Hornell Public Library\, 64 Genesee St\, Hornell\, NY\, 14843\, United States
CATEGORIES:Adult Programs,Children's Programs,General Programs,Young Adult Programs
END:VEVENT
BEGIN:VEVENT
DTSTART;TZID=America/New_York:20260205T123000
DTEND;TZID=America/New_York:20260205T133000
DTSTAMP:20260421T072242
CREATED:20260122T184746Z
LAST-MODIFIED:20260122T184813Z
UID:5879-1770294600-1770298200@hornellpubliclibrary.org
SUMMARY:Alzheimer's Association Caregiver Support Group
DESCRIPTION:
URL:https://hornellpubliclibrary.org/event/alzheimers-association-caregiver-support-group/
LOCATION:Hornell Public Library\, 64 Genesee St\, Hornell\, NY\, 14843\, United States
CATEGORIES:Adult Programs
END:VEVENT
BEGIN:VEVENT
DTSTART;TZID=America/New_York:20260203T180000
DTEND;TZID=America/New_York:20260203T190000
DTSTAMP:20260421T072242
CREATED:20260122T184156Z
LAST-MODIFIED:20260122T184224Z
UID:5876-1770141600-1770145200@hornellpubliclibrary.org
SUMMARY:Adult Crafting
DESCRIPTION:
URL:https://hornellpubliclibrary.org/event/adult-crafting/
LOCATION:NY
CATEGORIES:Adult Programs
END:VEVENT
BEGIN:VEVENT
DTSTART;TZID=America/New_York:20260202T170000
DTEND;TZID=America/New_York:20260202T190000
DTSTAMP:20260421T072242
CREATED:20260122T182125Z
LAST-MODIFIED:20260122T182201Z
UID:5868-1770051600-1770058800@hornellpubliclibrary.org
SUMMARY:Crochet for Beginners with Sherry Pelkey
DESCRIPTION:
URL:https://hornellpubliclibrary.org/event/crochet-for-beginners-with-sherry-pelkey-6/
LOCATION:Hornell Public Library\, 64 Genesee St\, Hornell\, NY\, 14843\, United States
CATEGORIES:Adult Programs,Children's Programs,General Programs,Young Adult Programs
END:VEVENT
BEGIN:VEVENT
DTSTART;TZID=America/New_York:20260131T103000
DTEND;TZID=America/New_York:20260131T113000
DTSTAMP:20260421T072242
CREATED:20251217T205627Z
LAST-MODIFIED:20251217T205656Z
UID:5799-1769855400-1769859000@hornellpubliclibrary.org
SUMMARY:Board Game Club
DESCRIPTION:
URL:https://hornellpubliclibrary.org/event/board-game-club-12/
LOCATION:Hornell Public Library\, 64 Genesee St\, Hornell\, NY\, 14843\, United States
CATEGORIES:Adult Programs,Children's Programs,Young Adult Programs
END:VEVENT
BEGIN:VEVENT
DTSTART;TZID=America/New_York:20260128T173000
DTEND;TZID=America/New_York:20260128T210000
DTSTAMP:20260421T072242
CREATED:20251222T155717Z
LAST-MODIFIED:20251222T155736Z
UID:5852-1769621400-1769634000@hornellpubliclibrary.org
SUMMARY:Role Playing One-Shot
DESCRIPTION:
URL:https://hornellpubliclibrary.org/event/role-playing-one-shot-3/
LOCATION:Hornell Public Library\, 64 Genesee St\, Hornell\, NY\, 14843\, United States
CATEGORIES:Adult Programs,Young Adult Programs
END:VEVENT
BEGIN:VEVENT
DTSTART;TZID=America/New_York:20260127T110000
DTEND;TZID=America/New_York:20260127T130000
DTSTAMP:20260421T072242
CREATED:20251217T214047Z
LAST-MODIFIED:20251217T214453Z
UID:5840-1769511600-1769518800@hornellpubliclibrary.org
SUMMARY:Homebound Book Delivery
DESCRIPTION:
URL:https://hornellpubliclibrary.org/event/homebound-book-delivery/
LOCATION:NY
CATEGORIES:Adult Programs,General Programs
END:VEVENT
BEGIN:VEVENT
DTSTART;TZID=America/New_York:20260126T170000
DTEND;TZID=America/New_York:20260126T190000
DTSTAMP:20260421T072242
CREATED:20251217T213759Z
LAST-MODIFIED:20251217T213832Z
UID:5834-1769446800-1769454000@hornellpubliclibrary.org
SUMMARY:Crochet for Beginners with Sherry Pelkey
DESCRIPTION:
URL:https://hornellpubliclibrary.org/event/crochet-for-beginners-with-sherry-pelkey-12/
LOCATION:Hornell Public Library\, 64 Genesee St\, Hornell\, NY\, 14843\, United States
CATEGORIES:Adult Programs,Children's Programs,General Programs,Young Adult Programs
END:VEVENT
BEGIN:VEVENT
DTSTART;TZID=America/New_York:20260124T103000
DTEND;TZID=America/New_York:20260124T113000
DTSTAMP:20260421T072242
CREATED:20251217T205530Z
LAST-MODIFIED:20251217T205559Z
UID:5797-1769250600-1769254200@hornellpubliclibrary.org
SUMMARY:Board Game Club
DESCRIPTION:
URL:https://hornellpubliclibrary.org/event/board-game-club-11/
LOCATION:Hornell Public Library\, 64 Genesee St\, Hornell\, NY\, 14843\, United States
CATEGORIES:Adult Programs,General Programs,Young Adult Programs
END:VEVENT
END:VCALENDAR